BEGIN:VCALENDAR
VERSION:2.0
PRODID:-//Access Alliance - ECPv6.10.1.1//NONSGML v1.0//EN
CALSCALE:GREGORIAN
METHOD:PUBLISH
X-WR-CALNAME:Access Alliance
X-ORIGINAL-URL:https://accessalliance.ca
X-WR-CALDESC:Events for Access Alliance
REFRESH-INTERVAL;VALUE=DURATION:PT1H
X-Robots-Tag:noindex
X-PUBLISHED-TTL:PT1H
BEGIN:VTIMEZONE
TZID:America/Toronto
BEGIN:DAYLIGHT
TZOFFSETFROM:-0500
TZOFFSETTO:-0400
TZNAME:EDT
DTSTART:20260308T070000
END:DAYLIGHT
BEGIN:STANDARD
TZOFFSETFROM:-0400
TZOFFSETTO:-0500
TZNAME:EST
DTSTART:20261101T060000
END:STANDARD
END:VTIMEZONE
BEGIN:VEVENT
DTSTART;TZID=America/Toronto:20260917T091500
DTEND;TZID=America/Toronto:20260917T111500
DTSTAMP:20260425T175616
CREATED:20260423T223905Z
LAST-MODIFIED:20260423T223905Z
UID:49781-1789636500-1789643700@accessalliance.ca
SUMMARY:ROUTINES
DESCRIPTION:Learn the importance—and the benefits—of a consistent morning routine! Join our workshop to explore the positive impact of a healthy routine for infants and kids up to age 6. \nWHO: Families with children 0-6 years old\nWHEN: Thursday\, Sept. 17\, 9:15–11:15 am\nWHERE: 91 Barrington Ave. Secord Community Centre
URL:https://accessalliance.ca/event/routines/
LOCATION:91 Barrington Avenue\, Secord Community Centre\, 91 Barrington Avenue\, Toronto\, Ontario\, M4C 4Y9\, Canada
ATTACH;FMTTYPE=image/png:https://accessalliance.ca/wp-content/uploads/2026/04/Untitled-design-3-e1776983869201.png
END:VEVENT
END:VCALENDAR