BEGIN:VCALENDAR
VERSION:2.0
PRODID:-//Access Alliance - ECPv6.10.1.1//NONSGML v1.0//EN
CALSCALE:GREGORIAN
METHOD:PUBLISH
X-WR-CALNAME:Access Alliance
X-ORIGINAL-URL:https://accessalliance.ca
X-WR-CALDESC:Events for Access Alliance
REFRESH-INTERVAL;VALUE=DURATION:PT1H
X-Robots-Tag:noindex
X-PUBLISHED-TTL:PT1H
BEGIN:VTIMEZONE
TZID:America/Toronto
BEGIN:DAYLIGHT
TZOFFSETFROM:-0500
TZOFFSETTO:-0400
TZNAME:EDT
DTSTART:20260308T070000
END:DAYLIGHT
BEGIN:STANDARD
TZOFFSETFROM:-0400
TZOFFSETTO:-0500
TZNAME:EST
DTSTART:20261101T060000
END:STANDARD
END:VTIMEZONE
BEGIN:VEVENT
DTSTART;TZID=America/Toronto:20260626T130000
DTEND;TZID=America/Toronto:20260626T150000
DTSTAMP:20260425T064841
CREATED:20260423T222940Z
LAST-MODIFIED:20260423T222940Z
UID:49778-1782478800-1782486000@accessalliance.ca
SUMMARY:Open House event
DESCRIPTION:Is your child 0-6 years old? Visit our open house and discover our Child & Family programs!  We have EarlyON drop-ins\, events\, parenting workshops\, field trips and more. Enjoy kids’ activities\, tasty food\, and giveaways! \nWHO: Families with children 0-6 years old\nWHEN: Friday\, June 26 & Friday\, August 21 – 1–3 pm\nWHERE: 91 Barrington Ave. Secord Community Centre
URL:https://accessalliance.ca/event/open-house-event/2026-06-26/
LOCATION:91 Barrington Avenue\, Secord Community Centre\, 91 Barrington Avenue\, Toronto\, Ontario\, M4C 4Y9\, Canada
ATTACH;FMTTYPE=image/jpeg:https://accessalliance.ca/wp-content/uploads/2020/07/at-work-encouraging-children-768x510-1.jpg
END:VEVENT
BEGIN:VEVENT
DTSTART;TZID=America/Toronto:20260821T130000
DTEND;TZID=America/Toronto:20260821T150000
DTSTAMP:20260425T064841
CREATED:20260423T222940Z
LAST-MODIFIED:20260423T222940Z
UID:49779-1787317200-1787324400@accessalliance.ca
SUMMARY:Open House event
DESCRIPTION:Is your child 0-6 years old? Visit our open house and discover our Child & Family programs!  We have EarlyON drop-ins\, events\, parenting workshops\, field trips and more. Enjoy kids’ activities\, tasty food\, and giveaways! \nWHO: Families with children 0-6 years old\nWHEN: Friday\, June 26 & Friday\, August 21 – 1–3 pm\nWHERE: 91 Barrington Ave. Secord Community Centre
URL:https://accessalliance.ca/event/open-house-event/2026-08-21/
LOCATION:91 Barrington Avenue\, Secord Community Centre\, 91 Barrington Avenue\, Toronto\, Ontario\, M4C 4Y9\, Canada
ATTACH;FMTTYPE=image/jpeg:https://accessalliance.ca/wp-content/uploads/2020/07/at-work-encouraging-children-768x510-1.jpg
END:VEVENT
END:VCALENDAR