BEGIN:VCALENDAR
VERSION:2.0
PRODID:-//Access Alliance - ECPv6.10.1.1//NONSGML v1.0//EN
CALSCALE:GREGORIAN
METHOD:PUBLISH
X-WR-CALNAME:Access Alliance
X-ORIGINAL-URL:https://accessalliance.ca
X-WR-CALDESC:Events for Access Alliance
REFRESH-INTERVAL;VALUE=DURATION:PT1H
X-Robots-Tag:noindex
X-PUBLISHED-TTL:PT1H
BEGIN:VTIMEZONE
TZID:America/Toronto
BEGIN:DAYLIGHT
TZOFFSETFROM:-0500
TZOFFSETTO:-0400
TZNAME:EDT
DTSTART:20260308T070000
END:DAYLIGHT
BEGIN:STANDARD
TZOFFSETFROM:-0400
TZOFFSETTO:-0500
TZNAME:EST
DTSTART:20261101T060000
END:STANDARD
END:VTIMEZONE
BEGIN:VEVENT
DTSTART;TZID=America/Toronto:20260727T093000
DTEND;TZID=America/Toronto:20260727T163000
DTSTAMP:20260425T084924
CREATED:20260423T233246Z
LAST-MODIFIED:20260423T233246Z
UID:49930-1785144600-1785169800@accessalliance.ca
SUMMARY:FAMILY WELLBEING PROGRAM
DESCRIPTION:Support for parents\, caregivers\, and extended family members with youth (10-29 years old) at risk of crime or violence. Scarborough participants are eligible for 1-on-1 service navigation supports to build family confidence and improve the youth’s health outcomes. \nTo register: FamilyWellbeing@AccessAlliance.ca \nWHO: Newcomer families living in Scarborough\nWHEN: Monday\, Wednesday\, Friday 9:30 am–4:30 pm\nWHERE: AccessPoint on Danforth
URL:https://accessalliance.ca/event/family-wellbeing-program/2026-07-27/
LOCATION:AccessPoint on Danforth\, 3079 Danforth Ave\, Scarborough\, Ontario\, M1L 1A9\, Canada
ATTACH;FMTTYPE=image/png:https://accessalliance.ca/wp-content/uploads/2026/01/Community-Knowledge-System-Impact.png
END:VEVENT
END:VCALENDAR