BEGIN:VCALENDAR
VERSION:2.0
PRODID:-//Access Alliance - ECPv6.10.1.1//NONSGML v1.0//EN
CALSCALE:GREGORIAN
METHOD:PUBLISH
X-ORIGINAL-URL:https://accessalliance.ca
X-WR-CALDESC:Events for Access Alliance
REFRESH-INTERVAL;VALUE=DURATION:PT1H
X-Robots-Tag:noindex
X-PUBLISHED-TTL:PT1H
BEGIN:VTIMEZONE
TZID:America/Toronto
BEGIN:DAYLIGHT
TZOFFSETFROM:-0500
TZOFFSETTO:-0400
TZNAME:EDT
DTSTART:20260308T070000
END:DAYLIGHT
BEGIN:STANDARD
TZOFFSETFROM:-0400
TZOFFSETTO:-0500
TZNAME:EST
DTSTART:20261101T060000
END:STANDARD
END:VTIMEZONE
BEGIN:VEVENT
DTSTART;TZID=America/Toronto:20260428T080000
DTEND;TZID=America/Toronto:20260428T170000
DTSTAMP:20260424T165030
CREATED:20260423T232659Z
LAST-MODIFIED:20260423T232659Z
UID:49814-1777363200-1777395600@accessalliance.ca
SUMMARY:EAST EFFORT PROGRAM
DESCRIPTION:Meet with Community Health Ambassadors for resources and info on vaccinations\, cancer screening\, chronic disease management\, mental health\, and food security to residents of Oakridge\, Taylor-Massey\, and surrounding communities. \nWHO: Newcomers living in Oakridge & Taylor Massey\nWHEN: Tuesday & Thursday\, 9:30 am–4:30 pm\nWHERE: AccessPoint on Danforth
URL:https://accessalliance.ca/event/east-effort-program/2026-04-28/
LOCATION:AccessPoint on Danforth\, 3079 Danforth Ave\, Scarborough\, Ontario\, M1L 1A9\, Canada
ATTACH;FMTTYPE=image/png:https://accessalliance.ca/wp-content/uploads/2026/02/Open-Door-staff-with-community-member.png
END:VEVENT
BEGIN:VEVENT
DTSTART;TZID=America/Toronto:20260430T080000
DTEND;TZID=America/Toronto:20260430T170000
DTSTAMP:20260424T165030
CREATED:20260423T232659Z
LAST-MODIFIED:20260423T232659Z
UID:49815-1777536000-1777568400@accessalliance.ca
SUMMARY:EAST EFFORT PROGRAM
DESCRIPTION:Meet with Community Health Ambassadors for resources and info on vaccinations\, cancer screening\, chronic disease management\, mental health\, and food security to residents of Oakridge\, Taylor-Massey\, and surrounding communities. \nWHO: Newcomers living in Oakridge & Taylor Massey\nWHEN: Tuesday & Thursday\, 9:30 am–4:30 pm\nWHERE: AccessPoint on Danforth
URL:https://accessalliance.ca/event/east-effort-program/2026-04-30/
LOCATION:AccessPoint on Danforth\, 3079 Danforth Ave\, Scarborough\, Ontario\, M1L 1A9\, Canada
ATTACH;FMTTYPE=image/png:https://accessalliance.ca/wp-content/uploads/2026/02/Open-Door-staff-with-community-member.png
END:VEVENT
BEGIN:VEVENT
DTSTART;TZID=America/Toronto:20260505T080000
DTEND;TZID=America/Toronto:20260505T170000
DTSTAMP:20260424T165030
CREATED:20260423T232659Z
LAST-MODIFIED:20260423T232659Z
UID:49816-1777968000-1778000400@accessalliance.ca
SUMMARY:EAST EFFORT PROGRAM
DESCRIPTION:Meet with Community Health Ambassadors for resources and info on vaccinations\, cancer screening\, chronic disease management\, mental health\, and food security to residents of Oakridge\, Taylor-Massey\, and surrounding communities. \nWHO: Newcomers living in Oakridge & Taylor Massey\nWHEN: Tuesday & Thursday\, 9:30 am–4:30 pm\nWHERE: AccessPoint on Danforth
URL:https://accessalliance.ca/event/east-effort-program/2026-05-05/
LOCATION:AccessPoint on Danforth\, 3079 Danforth Ave\, Scarborough\, Ontario\, M1L 1A9\, Canada
ATTACH;FMTTYPE=image/png:https://accessalliance.ca/wp-content/uploads/2026/02/Open-Door-staff-with-community-member.png
END:VEVENT
BEGIN:VEVENT
DTSTART;TZID=America/Toronto:20260507T080000
DTEND;TZID=America/Toronto:20260507T170000
DTSTAMP:20260424T165030
CREATED:20260423T232659Z
LAST-MODIFIED:20260423T232659Z
UID:49817-1778140800-1778173200@accessalliance.ca
SUMMARY:EAST EFFORT PROGRAM
DESCRIPTION:Meet with Community Health Ambassadors for resources and info on vaccinations\, cancer screening\, chronic disease management\, mental health\, and food security to residents of Oakridge\, Taylor-Massey\, and surrounding communities. \nWHO: Newcomers living in Oakridge & Taylor Massey\nWHEN: Tuesday & Thursday\, 9:30 am–4:30 pm\nWHERE: AccessPoint on Danforth
URL:https://accessalliance.ca/event/east-effort-program/2026-05-07/
LOCATION:AccessPoint on Danforth\, 3079 Danforth Ave\, Scarborough\, Ontario\, M1L 1A9\, Canada
ATTACH;FMTTYPE=image/png:https://accessalliance.ca/wp-content/uploads/2026/02/Open-Door-staff-with-community-member.png
END:VEVENT
BEGIN:VEVENT
DTSTART;TZID=America/Toronto:20260512T080000
DTEND;TZID=America/Toronto:20260512T170000
DTSTAMP:20260424T165030
CREATED:20260423T232659Z
LAST-MODIFIED:20260423T232659Z
UID:49818-1778572800-1778605200@accessalliance.ca
SUMMARY:EAST EFFORT PROGRAM
DESCRIPTION:Meet with Community Health Ambassadors for resources and info on vaccinations\, cancer screening\, chronic disease management\, mental health\, and food security to residents of Oakridge\, Taylor-Massey\, and surrounding communities. \nWHO: Newcomers living in Oakridge & Taylor Massey\nWHEN: Tuesday & Thursday\, 9:30 am–4:30 pm\nWHERE: AccessPoint on Danforth
URL:https://accessalliance.ca/event/east-effort-program/2026-05-12/
LOCATION:AccessPoint on Danforth\, 3079 Danforth Ave\, Scarborough\, Ontario\, M1L 1A9\, Canada
ATTACH;FMTTYPE=image/png:https://accessalliance.ca/wp-content/uploads/2026/02/Open-Door-staff-with-community-member.png
END:VEVENT
BEGIN:VEVENT
DTSTART;TZID=America/Toronto:20260514T080000
DTEND;TZID=America/Toronto:20260514T170000
DTSTAMP:20260424T165030
CREATED:20260423T232659Z
LAST-MODIFIED:20260423T232659Z
UID:49819-1778745600-1778778000@accessalliance.ca
SUMMARY:EAST EFFORT PROGRAM
DESCRIPTION:Meet with Community Health Ambassadors for resources and info on vaccinations\, cancer screening\, chronic disease management\, mental health\, and food security to residents of Oakridge\, Taylor-Massey\, and surrounding communities. \nWHO: Newcomers living in Oakridge & Taylor Massey\nWHEN: Tuesday & Thursday\, 9:30 am–4:30 pm\nWHERE: AccessPoint on Danforth
URL:https://accessalliance.ca/event/east-effort-program/2026-05-14/
LOCATION:AccessPoint on Danforth\, 3079 Danforth Ave\, Scarborough\, Ontario\, M1L 1A9\, Canada
ATTACH;FMTTYPE=image/png:https://accessalliance.ca/wp-content/uploads/2026/02/Open-Door-staff-with-community-member.png
END:VEVENT
BEGIN:VEVENT
DTSTART;TZID=America/Toronto:20260519T080000
DTEND;TZID=America/Toronto:20260519T170000
DTSTAMP:20260424T165030
CREATED:20260423T232659Z
LAST-MODIFIED:20260423T232659Z
UID:49820-1779177600-1779210000@accessalliance.ca
SUMMARY:EAST EFFORT PROGRAM
DESCRIPTION:Meet with Community Health Ambassadors for resources and info on vaccinations\, cancer screening\, chronic disease management\, mental health\, and food security to residents of Oakridge\, Taylor-Massey\, and surrounding communities. \nWHO: Newcomers living in Oakridge & Taylor Massey\nWHEN: Tuesday & Thursday\, 9:30 am–4:30 pm\nWHERE: AccessPoint on Danforth
URL:https://accessalliance.ca/event/east-effort-program/2026-05-19/
LOCATION:AccessPoint on Danforth\, 3079 Danforth Ave\, Scarborough\, Ontario\, M1L 1A9\, Canada
ATTACH;FMTTYPE=image/png:https://accessalliance.ca/wp-content/uploads/2026/02/Open-Door-staff-with-community-member.png
END:VEVENT
BEGIN:VEVENT
DTSTART;TZID=America/Toronto:20260521T080000
DTEND;TZID=America/Toronto:20260521T170000
DTSTAMP:20260424T165030
CREATED:20260423T232659Z
LAST-MODIFIED:20260423T232659Z
UID:49821-1779350400-1779382800@accessalliance.ca
SUMMARY:EAST EFFORT PROGRAM
DESCRIPTION:Meet with Community Health Ambassadors for resources and info on vaccinations\, cancer screening\, chronic disease management\, mental health\, and food security to residents of Oakridge\, Taylor-Massey\, and surrounding communities. \nWHO: Newcomers living in Oakridge & Taylor Massey\nWHEN: Tuesday & Thursday\, 9:30 am–4:30 pm\nWHERE: AccessPoint on Danforth
URL:https://accessalliance.ca/event/east-effort-program/2026-05-21/
LOCATION:AccessPoint on Danforth\, 3079 Danforth Ave\, Scarborough\, Ontario\, M1L 1A9\, Canada
ATTACH;FMTTYPE=image/png:https://accessalliance.ca/wp-content/uploads/2026/02/Open-Door-staff-with-community-member.png
END:VEVENT
BEGIN:VEVENT
DTSTART;TZID=America/Toronto:20260526T080000
DTEND;TZID=America/Toronto:20260526T170000
DTSTAMP:20260424T165030
CREATED:20260423T232659Z
LAST-MODIFIED:20260423T232659Z
UID:49822-1779782400-1779814800@accessalliance.ca
SUMMARY:EAST EFFORT PROGRAM
DESCRIPTION:Meet with Community Health Ambassadors for resources and info on vaccinations\, cancer screening\, chronic disease management\, mental health\, and food security to residents of Oakridge\, Taylor-Massey\, and surrounding communities. \nWHO: Newcomers living in Oakridge & Taylor Massey\nWHEN: Tuesday & Thursday\, 9:30 am–4:30 pm\nWHERE: AccessPoint on Danforth
URL:https://accessalliance.ca/event/east-effort-program/2026-05-26/
LOCATION:AccessPoint on Danforth\, 3079 Danforth Ave\, Scarborough\, Ontario\, M1L 1A9\, Canada
ATTACH;FMTTYPE=image/png:https://accessalliance.ca/wp-content/uploads/2026/02/Open-Door-staff-with-community-member.png
END:VEVENT
BEGIN:VEVENT
DTSTART;TZID=America/Toronto:20260528T080000
DTEND;TZID=America/Toronto:20260528T170000
DTSTAMP:20260424T165030
CREATED:20260423T232659Z
LAST-MODIFIED:20260423T232659Z
UID:49823-1779955200-1779987600@accessalliance.ca
SUMMARY:EAST EFFORT PROGRAM
DESCRIPTION:Meet with Community Health Ambassadors for resources and info on vaccinations\, cancer screening\, chronic disease management\, mental health\, and food security to residents of Oakridge\, Taylor-Massey\, and surrounding communities. \nWHO: Newcomers living in Oakridge & Taylor Massey\nWHEN: Tuesday & Thursday\, 9:30 am–4:30 pm\nWHERE: AccessPoint on Danforth
URL:https://accessalliance.ca/event/east-effort-program/2026-05-28/
LOCATION:AccessPoint on Danforth\, 3079 Danforth Ave\, Scarborough\, Ontario\, M1L 1A9\, Canada
ATTACH;FMTTYPE=image/png:https://accessalliance.ca/wp-content/uploads/2026/02/Open-Door-staff-with-community-member.png
END:VEVENT
BEGIN:VEVENT
DTSTART;TZID=America/Toronto:20260602T080000
DTEND;TZID=America/Toronto:20260602T170000
DTSTAMP:20260424T165030
CREATED:20260423T232659Z
LAST-MODIFIED:20260423T232659Z
UID:49825-1780387200-1780419600@accessalliance.ca
SUMMARY:EAST EFFORT PROGRAM
DESCRIPTION:Meet with Community Health Ambassadors for resources and info on vaccinations\, cancer screening\, chronic disease management\, mental health\, and food security to residents of Oakridge\, Taylor-Massey\, and surrounding communities. \nWHO: Newcomers living in Oakridge & Taylor Massey\nWHEN: Tuesday & Thursday\, 9:30 am–4:30 pm\nWHERE: AccessPoint on Danforth
URL:https://accessalliance.ca/event/east-effort-program/2026-06-02/
LOCATION:AccessPoint on Danforth\, 3079 Danforth Ave\, Scarborough\, Ontario\, M1L 1A9\, Canada
ATTACH;FMTTYPE=image/png:https://accessalliance.ca/wp-content/uploads/2026/02/Open-Door-staff-with-community-member.png
END:VEVENT
BEGIN:VEVENT
DTSTART;TZID=America/Toronto:20260604T080000
DTEND;TZID=America/Toronto:20260604T170000
DTSTAMP:20260424T165030
CREATED:20260423T232659Z
LAST-MODIFIED:20260423T232659Z
UID:49826-1780560000-1780592400@accessalliance.ca
SUMMARY:EAST EFFORT PROGRAM
DESCRIPTION:Meet with Community Health Ambassadors for resources and info on vaccinations\, cancer screening\, chronic disease management\, mental health\, and food security to residents of Oakridge\, Taylor-Massey\, and surrounding communities. \nWHO: Newcomers living in Oakridge & Taylor Massey\nWHEN: Tuesday & Thursday\, 9:30 am–4:30 pm\nWHERE: AccessPoint on Danforth
URL:https://accessalliance.ca/event/east-effort-program/2026-06-04/
LOCATION:AccessPoint on Danforth\, 3079 Danforth Ave\, Scarborough\, Ontario\, M1L 1A9\, Canada
ATTACH;FMTTYPE=image/png:https://accessalliance.ca/wp-content/uploads/2026/02/Open-Door-staff-with-community-member.png
END:VEVENT
BEGIN:VEVENT
DTSTART;TZID=America/Toronto:20260609T080000
DTEND;TZID=America/Toronto:20260609T170000
DTSTAMP:20260424T165030
CREATED:20260423T232659Z
LAST-MODIFIED:20260423T232659Z
UID:49827-1780992000-1781024400@accessalliance.ca
SUMMARY:EAST EFFORT PROGRAM
DESCRIPTION:Meet with Community Health Ambassadors for resources and info on vaccinations\, cancer screening\, chronic disease management\, mental health\, and food security to residents of Oakridge\, Taylor-Massey\, and surrounding communities. \nWHO: Newcomers living in Oakridge & Taylor Massey\nWHEN: Tuesday & Thursday\, 9:30 am–4:30 pm\nWHERE: AccessPoint on Danforth
URL:https://accessalliance.ca/event/east-effort-program/2026-06-09/
LOCATION:AccessPoint on Danforth\, 3079 Danforth Ave\, Scarborough\, Ontario\, M1L 1A9\, Canada
ATTACH;FMTTYPE=image/png:https://accessalliance.ca/wp-content/uploads/2026/02/Open-Door-staff-with-community-member.png
END:VEVENT
BEGIN:VEVENT
DTSTART;TZID=America/Toronto:20260611T080000
DTEND;TZID=America/Toronto:20260611T170000
DTSTAMP:20260424T165030
CREATED:20260423T232659Z
LAST-MODIFIED:20260423T232659Z
UID:49828-1781164800-1781197200@accessalliance.ca
SUMMARY:EAST EFFORT PROGRAM
DESCRIPTION:Meet with Community Health Ambassadors for resources and info on vaccinations\, cancer screening\, chronic disease management\, mental health\, and food security to residents of Oakridge\, Taylor-Massey\, and surrounding communities. \nWHO: Newcomers living in Oakridge & Taylor Massey\nWHEN: Tuesday & Thursday\, 9:30 am–4:30 pm\nWHERE: AccessPoint on Danforth
URL:https://accessalliance.ca/event/east-effort-program/2026-06-11/
LOCATION:AccessPoint on Danforth\, 3079 Danforth Ave\, Scarborough\, Ontario\, M1L 1A9\, Canada
ATTACH;FMTTYPE=image/png:https://accessalliance.ca/wp-content/uploads/2026/02/Open-Door-staff-with-community-member.png
END:VEVENT
BEGIN:VEVENT
DTSTART;TZID=America/Toronto:20260616T080000
DTEND;TZID=America/Toronto:20260616T170000
DTSTAMP:20260424T165030
CREATED:20260423T232659Z
LAST-MODIFIED:20260423T232659Z
UID:49829-1781596800-1781629200@accessalliance.ca
SUMMARY:EAST EFFORT PROGRAM
DESCRIPTION:Meet with Community Health Ambassadors for resources and info on vaccinations\, cancer screening\, chronic disease management\, mental health\, and food security to residents of Oakridge\, Taylor-Massey\, and surrounding communities. \nWHO: Newcomers living in Oakridge & Taylor Massey\nWHEN: Tuesday & Thursday\, 9:30 am–4:30 pm\nWHERE: AccessPoint on Danforth
URL:https://accessalliance.ca/event/east-effort-program/2026-06-16/
LOCATION:AccessPoint on Danforth\, 3079 Danforth Ave\, Scarborough\, Ontario\, M1L 1A9\, Canada
ATTACH;FMTTYPE=image/png:https://accessalliance.ca/wp-content/uploads/2026/02/Open-Door-staff-with-community-member.png
END:VEVENT
BEGIN:VEVENT
DTSTART;TZID=America/Toronto:20260618T080000
DTEND;TZID=America/Toronto:20260618T170000
DTSTAMP:20260424T165030
CREATED:20260423T232659Z
LAST-MODIFIED:20260423T232659Z
UID:49830-1781769600-1781802000@accessalliance.ca
SUMMARY:EAST EFFORT PROGRAM
DESCRIPTION:Meet with Community Health Ambassadors for resources and info on vaccinations\, cancer screening\, chronic disease management\, mental health\, and food security to residents of Oakridge\, Taylor-Massey\, and surrounding communities. \nWHO: Newcomers living in Oakridge & Taylor Massey\nWHEN: Tuesday & Thursday\, 9:30 am–4:30 pm\nWHERE: AccessPoint on Danforth
URL:https://accessalliance.ca/event/east-effort-program/2026-06-18/
LOCATION:AccessPoint on Danforth\, 3079 Danforth Ave\, Scarborough\, Ontario\, M1L 1A9\, Canada
ATTACH;FMTTYPE=image/png:https://accessalliance.ca/wp-content/uploads/2026/02/Open-Door-staff-with-community-member.png
END:VEVENT
BEGIN:VEVENT
DTSTART;TZID=America/Toronto:20260623T080000
DTEND;TZID=America/Toronto:20260623T170000
DTSTAMP:20260424T165030
CREATED:20260423T232659Z
LAST-MODIFIED:20260423T232659Z
UID:49831-1782201600-1782234000@accessalliance.ca
SUMMARY:EAST EFFORT PROGRAM
DESCRIPTION:Meet with Community Health Ambassadors for resources and info on vaccinations\, cancer screening\, chronic disease management\, mental health\, and food security to residents of Oakridge\, Taylor-Massey\, and surrounding communities. \nWHO: Newcomers living in Oakridge & Taylor Massey\nWHEN: Tuesday & Thursday\, 9:30 am–4:30 pm\nWHERE: AccessPoint on Danforth
URL:https://accessalliance.ca/event/east-effort-program/2026-06-23/
LOCATION:AccessPoint on Danforth\, 3079 Danforth Ave\, Scarborough\, Ontario\, M1L 1A9\, Canada
ATTACH;FMTTYPE=image/png:https://accessalliance.ca/wp-content/uploads/2026/02/Open-Door-staff-with-community-member.png
END:VEVENT
BEGIN:VEVENT
DTSTART;TZID=America/Toronto:20260625T080000
DTEND;TZID=America/Toronto:20260625T170000
DTSTAMP:20260424T165030
CREATED:20260423T232659Z
LAST-MODIFIED:20260423T232659Z
UID:49832-1782374400-1782406800@accessalliance.ca
SUMMARY:EAST EFFORT PROGRAM
DESCRIPTION:Meet with Community Health Ambassadors for resources and info on vaccinations\, cancer screening\, chronic disease management\, mental health\, and food security to residents of Oakridge\, Taylor-Massey\, and surrounding communities. \nWHO: Newcomers living in Oakridge & Taylor Massey\nWHEN: Tuesday & Thursday\, 9:30 am–4:30 pm\nWHERE: AccessPoint on Danforth
URL:https://accessalliance.ca/event/east-effort-program/2026-06-25/
LOCATION:AccessPoint on Danforth\, 3079 Danforth Ave\, Scarborough\, Ontario\, M1L 1A9\, Canada
ATTACH;FMTTYPE=image/png:https://accessalliance.ca/wp-content/uploads/2026/02/Open-Door-staff-with-community-member.png
END:VEVENT
BEGIN:VEVENT
DTSTART;TZID=America/Toronto:20260630T080000
DTEND;TZID=America/Toronto:20260630T170000
DTSTAMP:20260424T165030
CREATED:20260423T232659Z
LAST-MODIFIED:20260423T232659Z
UID:49833-1782806400-1782838800@accessalliance.ca
SUMMARY:EAST EFFORT PROGRAM
DESCRIPTION:Meet with Community Health Ambassadors for resources and info on vaccinations\, cancer screening\, chronic disease management\, mental health\, and food security to residents of Oakridge\, Taylor-Massey\, and surrounding communities. \nWHO: Newcomers living in Oakridge & Taylor Massey\nWHEN: Tuesday & Thursday\, 9:30 am–4:30 pm\nWHERE: AccessPoint on Danforth
URL:https://accessalliance.ca/event/east-effort-program/2026-06-30/
LOCATION:AccessPoint on Danforth\, 3079 Danforth Ave\, Scarborough\, Ontario\, M1L 1A9\, Canada
ATTACH;FMTTYPE=image/png:https://accessalliance.ca/wp-content/uploads/2026/02/Open-Door-staff-with-community-member.png
END:VEVENT
BEGIN:VEVENT
DTSTART;TZID=America/Toronto:20260702T080000
DTEND;TZID=America/Toronto:20260702T170000
DTSTAMP:20260424T165030
CREATED:20260423T232659Z
LAST-MODIFIED:20260423T232659Z
UID:49834-1782979200-1783011600@accessalliance.ca
SUMMARY:EAST EFFORT PROGRAM
DESCRIPTION:Meet with Community Health Ambassadors for resources and info on vaccinations\, cancer screening\, chronic disease management\, mental health\, and food security to residents of Oakridge\, Taylor-Massey\, and surrounding communities. \nWHO: Newcomers living in Oakridge & Taylor Massey\nWHEN: Tuesday & Thursday\, 9:30 am–4:30 pm\nWHERE: AccessPoint on Danforth
URL:https://accessalliance.ca/event/east-effort-program/2026-07-02/
LOCATION:AccessPoint on Danforth\, 3079 Danforth Ave\, Scarborough\, Ontario\, M1L 1A9\, Canada
ATTACH;FMTTYPE=image/png:https://accessalliance.ca/wp-content/uploads/2026/02/Open-Door-staff-with-community-member.png
END:VEVENT
BEGIN:VEVENT
DTSTART;TZID=America/Toronto:20260707T080000
DTEND;TZID=America/Toronto:20260707T170000
DTSTAMP:20260424T165030
CREATED:20260423T232659Z
LAST-MODIFIED:20260423T232659Z
UID:49835-1783411200-1783443600@accessalliance.ca
SUMMARY:EAST EFFORT PROGRAM
DESCRIPTION:Meet with Community Health Ambassadors for resources and info on vaccinations\, cancer screening\, chronic disease management\, mental health\, and food security to residents of Oakridge\, Taylor-Massey\, and surrounding communities. \nWHO: Newcomers living in Oakridge & Taylor Massey\nWHEN: Tuesday & Thursday\, 9:30 am–4:30 pm\nWHERE: AccessPoint on Danforth
URL:https://accessalliance.ca/event/east-effort-program/2026-07-07/
LOCATION:AccessPoint on Danforth\, 3079 Danforth Ave\, Scarborough\, Ontario\, M1L 1A9\, Canada
ATTACH;FMTTYPE=image/png:https://accessalliance.ca/wp-content/uploads/2026/02/Open-Door-staff-with-community-member.png
END:VEVENT
BEGIN:VEVENT
DTSTART;TZID=America/Toronto:20260709T080000
DTEND;TZID=America/Toronto:20260709T170000
DTSTAMP:20260424T165030
CREATED:20260423T232659Z
LAST-MODIFIED:20260423T232659Z
UID:49836-1783584000-1783616400@accessalliance.ca
SUMMARY:EAST EFFORT PROGRAM
DESCRIPTION:Meet with Community Health Ambassadors for resources and info on vaccinations\, cancer screening\, chronic disease management\, mental health\, and food security to residents of Oakridge\, Taylor-Massey\, and surrounding communities. \nWHO: Newcomers living in Oakridge & Taylor Massey\nWHEN: Tuesday & Thursday\, 9:30 am–4:30 pm\nWHERE: AccessPoint on Danforth
URL:https://accessalliance.ca/event/east-effort-program/2026-07-09/
LOCATION:AccessPoint on Danforth\, 3079 Danforth Ave\, Scarborough\, Ontario\, M1L 1A9\, Canada
ATTACH;FMTTYPE=image/png:https://accessalliance.ca/wp-content/uploads/2026/02/Open-Door-staff-with-community-member.png
END:VEVENT
BEGIN:VEVENT
DTSTART;TZID=America/Toronto:20260714T080000
DTEND;TZID=America/Toronto:20260714T170000
DTSTAMP:20260424T165030
CREATED:20260423T232659Z
LAST-MODIFIED:20260423T232659Z
UID:49837-1784016000-1784048400@accessalliance.ca
SUMMARY:EAST EFFORT PROGRAM
DESCRIPTION:Meet with Community Health Ambassadors for resources and info on vaccinations\, cancer screening\, chronic disease management\, mental health\, and food security to residents of Oakridge\, Taylor-Massey\, and surrounding communities. \nWHO: Newcomers living in Oakridge & Taylor Massey\nWHEN: Tuesday & Thursday\, 9:30 am–4:30 pm\nWHERE: AccessPoint on Danforth
URL:https://accessalliance.ca/event/east-effort-program/2026-07-14/
LOCATION:AccessPoint on Danforth\, 3079 Danforth Ave\, Scarborough\, Ontario\, M1L 1A9\, Canada
ATTACH;FMTTYPE=image/png:https://accessalliance.ca/wp-content/uploads/2026/02/Open-Door-staff-with-community-member.png
END:VEVENT
BEGIN:VEVENT
DTSTART;TZID=America/Toronto:20260716T080000
DTEND;TZID=America/Toronto:20260716T170000
DTSTAMP:20260424T165030
CREATED:20260423T232659Z
LAST-MODIFIED:20260423T232659Z
UID:49838-1784188800-1784221200@accessalliance.ca
SUMMARY:EAST EFFORT PROGRAM
DESCRIPTION:Meet with Community Health Ambassadors for resources and info on vaccinations\, cancer screening\, chronic disease management\, mental health\, and food security to residents of Oakridge\, Taylor-Massey\, and surrounding communities. \nWHO: Newcomers living in Oakridge & Taylor Massey\nWHEN: Tuesday & Thursday\, 9:30 am–4:30 pm\nWHERE: AccessPoint on Danforth
URL:https://accessalliance.ca/event/east-effort-program/2026-07-16/
LOCATION:AccessPoint on Danforth\, 3079 Danforth Ave\, Scarborough\, Ontario\, M1L 1A9\, Canada
ATTACH;FMTTYPE=image/png:https://accessalliance.ca/wp-content/uploads/2026/02/Open-Door-staff-with-community-member.png
END:VEVENT
BEGIN:VEVENT
DTSTART;TZID=America/Toronto:20260721T080000
DTEND;TZID=America/Toronto:20260721T170000
DTSTAMP:20260424T165030
CREATED:20260423T232659Z
LAST-MODIFIED:20260423T232659Z
UID:49839-1784620800-1784653200@accessalliance.ca
SUMMARY:EAST EFFORT PROGRAM
DESCRIPTION:Meet with Community Health Ambassadors for resources and info on vaccinations\, cancer screening\, chronic disease management\, mental health\, and food security to residents of Oakridge\, Taylor-Massey\, and surrounding communities. \nWHO: Newcomers living in Oakridge & Taylor Massey\nWHEN: Tuesday & Thursday\, 9:30 am–4:30 pm\nWHERE: AccessPoint on Danforth
URL:https://accessalliance.ca/event/east-effort-program/2026-07-21/
LOCATION:AccessPoint on Danforth\, 3079 Danforth Ave\, Scarborough\, Ontario\, M1L 1A9\, Canada
ATTACH;FMTTYPE=image/png:https://accessalliance.ca/wp-content/uploads/2026/02/Open-Door-staff-with-community-member.png
END:VEVENT
BEGIN:VEVENT
DTSTART;TZID=America/Toronto:20260723T080000
DTEND;TZID=America/Toronto:20260723T170000
DTSTAMP:20260424T165030
CREATED:20260423T232659Z
LAST-MODIFIED:20260423T232659Z
UID:49840-1784793600-1784826000@accessalliance.ca
SUMMARY:EAST EFFORT PROGRAM
DESCRIPTION:Meet with Community Health Ambassadors for resources and info on vaccinations\, cancer screening\, chronic disease management\, mental health\, and food security to residents of Oakridge\, Taylor-Massey\, and surrounding communities. \nWHO: Newcomers living in Oakridge & Taylor Massey\nWHEN: Tuesday & Thursday\, 9:30 am–4:30 pm\nWHERE: AccessPoint on Danforth
URL:https://accessalliance.ca/event/east-effort-program/2026-07-23/
LOCATION:AccessPoint on Danforth\, 3079 Danforth Ave\, Scarborough\, Ontario\, M1L 1A9\, Canada
ATTACH;FMTTYPE=image/png:https://accessalliance.ca/wp-content/uploads/2026/02/Open-Door-staff-with-community-member.png
END:VEVENT
BEGIN:VEVENT
DTSTART;TZID=America/Toronto:20260728T080000
DTEND;TZID=America/Toronto:20260728T170000
DTSTAMP:20260424T165030
CREATED:20260423T232659Z
LAST-MODIFIED:20260423T232659Z
UID:49841-1785225600-1785258000@accessalliance.ca
SUMMARY:EAST EFFORT PROGRAM
DESCRIPTION:Meet with Community Health Ambassadors for resources and info on vaccinations\, cancer screening\, chronic disease management\, mental health\, and food security to residents of Oakridge\, Taylor-Massey\, and surrounding communities. \nWHO: Newcomers living in Oakridge & Taylor Massey\nWHEN: Tuesday & Thursday\, 9:30 am–4:30 pm\nWHERE: AccessPoint on Danforth
URL:https://accessalliance.ca/event/east-effort-program/2026-07-28/
LOCATION:AccessPoint on Danforth\, 3079 Danforth Ave\, Scarborough\, Ontario\, M1L 1A9\, Canada
ATTACH;FMTTYPE=image/png:https://accessalliance.ca/wp-content/uploads/2026/02/Open-Door-staff-with-community-member.png
END:VEVENT
BEGIN:VEVENT
DTSTART;TZID=America/Toronto:20260730T080000
DTEND;TZID=America/Toronto:20260730T170000
DTSTAMP:20260424T165030
CREATED:20260423T232659Z
LAST-MODIFIED:20260423T232659Z
UID:49842-1785398400-1785430800@accessalliance.ca
SUMMARY:EAST EFFORT PROGRAM
DESCRIPTION:Meet with Community Health Ambassadors for resources and info on vaccinations\, cancer screening\, chronic disease management\, mental health\, and food security to residents of Oakridge\, Taylor-Massey\, and surrounding communities. \nWHO: Newcomers living in Oakridge & Taylor Massey\nWHEN: Tuesday & Thursday\, 9:30 am–4:30 pm\nWHERE: AccessPoint on Danforth
URL:https://accessalliance.ca/event/east-effort-program/2026-07-30/
LOCATION:AccessPoint on Danforth\, 3079 Danforth Ave\, Scarborough\, Ontario\, M1L 1A9\, Canada
ATTACH;FMTTYPE=image/png:https://accessalliance.ca/wp-content/uploads/2026/02/Open-Door-staff-with-community-member.png
END:VEVENT
BEGIN:VEVENT
DTSTART;TZID=America/Toronto:20260804T080000
DTEND;TZID=America/Toronto:20260804T170000
DTSTAMP:20260424T165030
CREATED:20260423T232659Z
LAST-MODIFIED:20260423T232659Z
UID:49843-1785830400-1785862800@accessalliance.ca
SUMMARY:EAST EFFORT PROGRAM
DESCRIPTION:Meet with Community Health Ambassadors for resources and info on vaccinations\, cancer screening\, chronic disease management\, mental health\, and food security to residents of Oakridge\, Taylor-Massey\, and surrounding communities. \nWHO: Newcomers living in Oakridge & Taylor Massey\nWHEN: Tuesday & Thursday\, 9:30 am–4:30 pm\nWHERE: AccessPoint on Danforth
URL:https://accessalliance.ca/event/east-effort-program/2026-08-04/
LOCATION:AccessPoint on Danforth\, 3079 Danforth Ave\, Scarborough\, Ontario\, M1L 1A9\, Canada
ATTACH;FMTTYPE=image/png:https://accessalliance.ca/wp-content/uploads/2026/02/Open-Door-staff-with-community-member.png
END:VEVENT
BEGIN:VEVENT
DTSTART;TZID=America/Toronto:20260806T080000
DTEND;TZID=America/Toronto:20260806T170000
DTSTAMP:20260424T165030
CREATED:20260423T232659Z
LAST-MODIFIED:20260423T232659Z
UID:49844-1786003200-1786035600@accessalliance.ca
SUMMARY:EAST EFFORT PROGRAM
DESCRIPTION:Meet with Community Health Ambassadors for resources and info on vaccinations\, cancer screening\, chronic disease management\, mental health\, and food security to residents of Oakridge\, Taylor-Massey\, and surrounding communities. \nWHO: Newcomers living in Oakridge & Taylor Massey\nWHEN: Tuesday & Thursday\, 9:30 am–4:30 pm\nWHERE: AccessPoint on Danforth
URL:https://accessalliance.ca/event/east-effort-program/2026-08-06/
LOCATION:AccessPoint on Danforth\, 3079 Danforth Ave\, Scarborough\, Ontario\, M1L 1A9\, Canada
ATTACH;FMTTYPE=image/png:https://accessalliance.ca/wp-content/uploads/2026/02/Open-Door-staff-with-community-member.png
END:VEVENT
END:VCALENDAR